BEGIN:VCALENDAR
VERSION:2.0
PRODID:-//Kevin Vidmar Music - ECPv6.15.20//NONSGML v1.0//EN
CALSCALE:GREGORIAN
METHOD:PUBLISH
X-WR-CALNAME:Kevin Vidmar Music
X-ORIGINAL-URL:https://vidmarmusic.com
X-WR-CALDESC:Events for Kevin Vidmar Music
REFRESH-INTERVAL;VALUE=DURATION:PT1H
X-Robots-Tag:noindex
X-PUBLISHED-TTL:PT1H
BEGIN:VTIMEZONE
TZID:UTC
BEGIN:STANDARD
TZOFFSETFROM:+0000
TZOFFSETTO:+0000
TZNAME:UTC
DTSTART:20210101T000000
END:STANDARD
END:VTIMEZONE
BEGIN:VEVENT
DTSTART;TZID=UTC:20220807T170000
DTEND;TZID=UTC:20220807T190000
DTSTAMP:20260419T124537
CREATED:20220329T194044Z
LAST-MODIFIED:20220430T174038Z
UID:206-1659891600-1659898800@vidmarmusic.com
SUMMARY:Country Wild Heart plays on the South Kingstown Green
DESCRIPTION:
URL:https://vidmarmusic.com/event/country-wild-heart-plays-on-the-south-kingstown-green/
LOCATION:South Kingstown Green\, 325 Columbia Street\, Wakefield\, RI\, 02879\, United States
CATEGORIES:Country Music,Dance Music,Fiddle Music,Live Music performance
ATTACH;FMTTYPE=image/jpeg:https://vidmarmusic.com/wp-content/uploads/2022/03/275006159_117571587523475_1527644552776154080_n.jpg
END:VEVENT
BEGIN:VEVENT
DTSTART;TZID=UTC:20220731T190000
DTEND;TZID=UTC:20220731T220000
DTSTAMP:20260419T124537
CREATED:20220329T193850Z
LAST-MODIFIED:20220418T001217Z
UID:203-1659294000-1659304800@vidmarmusic.com
SUMMARY:Country Wild Heart plays at Strawberry Park
DESCRIPTION:
URL:https://vidmarmusic.com/event/country-wild-heart-plays-at-strawberry-park/
LOCATION:Strawberry Park\, 42 Pierce Rd\, Preston\, CT\, 06365
CATEGORIES:Country Music,Dance Music,Fiddle Music,Live Music performance
ATTACH;FMTTYPE=image/jpeg:https://vidmarmusic.com/wp-content/uploads/2022/03/275006159_117571587523475_1527644552776154080_n.jpg
END:VEVENT
BEGIN:VEVENT
DTSTART;TZID=UTC:20220726T170000
DTEND;TZID=UTC:20220726T190000
DTSTAMP:20260419T124537
CREATED:20220329T001957Z
LAST-MODIFIED:20220430T173027Z
UID:147-1658854800-1658862000@vidmarmusic.com
SUMMARY:Country Wild Heart at North Kingstown Beach
DESCRIPTION:
URL:https://vidmarmusic.com/event/country-wild-heart-at-north-kingstown-beach/
LOCATION:North Kingstown beach\, North Kingstown\, RI\, United States
CATEGORIES:Live Music performance
ATTACH;FMTTYPE=image/jpeg:https://vidmarmusic.com/wp-content/uploads/2022/04/Clapping.jpg
END:VEVENT
BEGIN:VEVENT
DTSTART;TZID=UTC:20220724T160000
DTEND;TZID=UTC:20220724T180000
DTSTAMP:20260419T124537
CREATED:20220328T235507Z
LAST-MODIFIED:20220620T235929Z
UID:130-1658678400-1658685600@vidmarmusic.com
SUMMARY:To Be Continued Band on the South Kingstown Green
DESCRIPTION:
URL:https://vidmarmusic.com/event/to-be-continued-on-the-south-kingstown-green/
LOCATION:South Kingstown Green\, 325 Columbia Street\, Wakefield\, RI\, 02879\, United States
CATEGORIES:Country Music,Dance Music,Fiddle Music,Live Music performance
ATTACH;FMTTYPE=image/jpeg:https://vidmarmusic.com/wp-content/uploads/2022/06/Linesider-6-11-22-better-aspect-ratio.jpg
END:VEVENT
BEGIN:VEVENT
DTSTART;TZID=UTC:20220723T190000
DTEND;TZID=UTC:20220723T210000
DTSTAMP:20260419T124537
CREATED:20220621T165907Z
LAST-MODIFIED:20220621T165907Z
UID:537-1658602800-1658610000@vidmarmusic.com
SUMMARY:To Be Continued Band at Shaidzon Brewery
DESCRIPTION:
URL:https://vidmarmusic.com/event/to-be-continued-band-at-shaidzon-brewery-3/
LOCATION:Shaidzon Beer Company\, 141 Fairgrounds Rd\, West Kingston\, RI\, 02892\, United States
CATEGORIES:Country Music,Dance Music,Fiddle Music,Live Music performance
ATTACH;FMTTYPE=image/jpeg:https://vidmarmusic.com/wp-content/uploads/2022/06/Linesider-6-11-22-better-aspect-ratio.jpg
END:VEVENT
BEGIN:VEVENT
DTSTART;TZID=UTC:20220723T110000
DTEND;TZID=UTC:20220723T140000
DTSTAMP:20260419T124537
CREATED:20220328T234444Z
LAST-MODIFIED:20220329T002304Z
UID:125-1658574000-1658584800@vidmarmusic.com
SUMMARY:To Be Continued Band at the Jamestown Windmill
DESCRIPTION:
URL:https://vidmarmusic.com/event/to-be-continued-at-the-jamestown-windmill/
LOCATION:Jamestown Windmill\, North Main Road\, Jamestown\, RI\, 02835\, United States
CATEGORIES:Live Music performance
ATTACH;FMTTYPE=image/jpeg:https://vidmarmusic.com/wp-content/uploads/2022/03/Jamestown-windmill.jpg
END:VEVENT
BEGIN:VEVENT
DTSTART;TZID=UTC:20220722T170000
DTEND;TZID=UTC:20220722T190000
DTSTAMP:20260419T124537
CREATED:20220329T001624Z
LAST-MODIFIED:20220430T172557Z
UID:144-1658509200-1658516400@vidmarmusic.com
SUMMARY:Country Wild Heart at Town of Coventry
DESCRIPTION:
URL:https://vidmarmusic.com/event/country-wild-heart-at-town-of-coventry/
LOCATION:Coventry Town Hall Annex\, 1675 Flat River Road\, Coventry\, RI\, 02816\, United States
CATEGORIES:Live Music performance
ATTACH;FMTTYPE=image/jpeg:https://vidmarmusic.com/wp-content/uploads/2022/04/Clapping.jpg
END:VEVENT
BEGIN:VEVENT
DTSTART;TZID=UTC:20220721T180000
DTEND;TZID=UTC:20220721T200000
DTSTAMP:20260419T124537
CREATED:20220418T000123Z
LAST-MODIFIED:20220418T001303Z
UID:459-1658426400-1658433600@vidmarmusic.com
SUMMARY:Country Wild Heart plays in Whitinsville\, MA
DESCRIPTION:
URL:https://vidmarmusic.com/event/country-wild-heart-plays-in-whitinsville-ma/
LOCATION:Dennis H. Rice Communiy Plaza\, 50 Douglas Road\, Whitinsville\, MA\, 01588
CATEGORIES:Country Music,Dance Music,Fiddle Music,Live Music performance
ATTACH;FMTTYPE=image/jpeg:https://vidmarmusic.com/wp-content/uploads/2022/03/275006159_117571587523475_1527644552776154080_n.jpg
END:VEVENT
BEGIN:VEVENT
DTSTART;TZID=UTC:20220717T130000
DTEND;TZID=UTC:20220717T143000
DTSTAMP:20260419T124537
CREATED:20220417T235602Z
LAST-MODIFIED:20220430T172159Z
UID:457-1658062800-1658068200@vidmarmusic.com
SUMMARY:Country Wild Heart plays at Mulligan's Country Fest
DESCRIPTION:
URL:https://vidmarmusic.com/event/country-wild-heart-plays-at-mulligans-country-fest/
LOCATION:RI
CATEGORIES:Country Music,Dance Music,Fiddle Music,Live Music performance
ATTACH;FMTTYPE=image/jpeg:https://vidmarmusic.com/wp-content/uploads/2022/03/275006159_117571587523475_1527644552776154080_n.jpg
END:VEVENT
BEGIN:VEVENT
DTSTART;TZID=UTC:20220715T180000
DTEND;TZID=UTC:20220715T210000
DTSTAMP:20260419T124537
CREATED:20220328T233604Z
LAST-MODIFIED:20220621T000024Z
UID:122-1657908000-1657918800@vidmarmusic.com
SUMMARY:To Be Continued Band at Shaidzon Brewery
DESCRIPTION:
URL:https://vidmarmusic.com/event/to-be-continued-band-at-shaidzon-brewery/
LOCATION:Shaidzon Beer Company\, 141 Fairgrounds Rd\, West Kingston\, RI\, 02892\, United States
CATEGORIES:Country Music,Dance Music,Fiddle Music,Live Music performance
ATTACH;FMTTYPE=image/jpeg:https://vidmarmusic.com/wp-content/uploads/2022/06/Linesider-6-11-22-better-aspect-ratio.jpg
END:VEVENT
BEGIN:VEVENT
DTSTART;TZID=UTC:20220712T170000
DTEND;TZID=UTC:20220712T190000
DTSTAMP:20260419T124537
CREATED:20220329T001342Z
LAST-MODIFIED:20220418T000719Z
UID:141-1657645200-1657652400@vidmarmusic.com
SUMMARY:Country Wild Heart at Newport 1st Beach Concert
DESCRIPTION:
URL:https://vidmarmusic.com/event/country-wild-heart-at-newport-beach/
LOCATION:Newport Beach\, 2348t Road\, Newport\, RI\, United States
CATEGORIES:Live Music performance
ATTACH;FMTTYPE=image/jpeg:https://vidmarmusic.com/wp-content/uploads/2022/03/275006159_117571587523475_1527644552776154080_n.jpg
END:VEVENT
BEGIN:VEVENT
DTSTART;TZID=UTC:20220709T190000
DTEND;TZID=UTC:20220709T210000
DTSTAMP:20260419T124537
CREATED:20220603T192044Z
LAST-MODIFIED:20220620T230505Z
UID:497-1657393200-1657400400@vidmarmusic.com
SUMMARY:To Be Continued Band at Breachway Grill
DESCRIPTION:
URL:https://vidmarmusic.com/event/to-be-continued-band-at-breachway-grill/
LOCATION:Breachway Grill\, 1 Charlestown Beach Rd\, Charlestown\, RI\, 02813\, United States
CATEGORIES:Country Music,Dance Music,Fiddle Music,Live Music performance
ATTACH;FMTTYPE=image/jpeg:https://vidmarmusic.com/wp-content/uploads/2022/06/Trio-at-breachway-grill-better-aspect-ratio.jpg
END:VEVENT
BEGIN:VEVENT
DTSTART;TZID=UTC:20220706T203000
DTEND;TZID=UTC:20220706T233000
DTSTAMP:20260419T124537
CREATED:20220328T232635Z
LAST-MODIFIED:20220615T233108Z
UID:119-1657139400-1657150200@vidmarmusic.com
SUMMARY:To Be Continued Band at Nick-A-Nee's
DESCRIPTION:
URL:https://vidmarmusic.com/event/to-be-continued-band-at-nick-a-nees-2/
LOCATION:RI
CATEGORIES:Live Music performance
ATTACH;FMTTYPE=image/jpeg:https://vidmarmusic.com/wp-content/uploads/2022/03/Nickanees1.jpg
END:VEVENT
BEGIN:VEVENT
DTSTART;TZID=UTC:20220626T170000
DTEND;TZID=UTC:20220626T200000
DTSTAMP:20260419T124537
CREATED:20220405T180427Z
LAST-MODIFIED:20220620T225220Z
UID:412-1656262800-1656273600@vidmarmusic.com
SUMMARY:To Be Continued Band at Oak Hill Tavern
DESCRIPTION:
URL:https://vidmarmusic.com/event/to-be-continued-band-at-oak-hill-tavern/
LOCATION:Oak Hill Tavern\, 565 Tower Hill Rd\, North Kingstown\, RI\, 02852
CATEGORIES:Country Music,Dance Music,Fiddle Music,Live Music performance
ATTACH;FMTTYPE=image/jpeg:https://vidmarmusic.com/wp-content/uploads/2022/06/Linesider-6-11-22-better-aspect-ratio.jpg
END:VEVENT
BEGIN:VEVENT
DTSTART;TZID=UTC:20220624T170000
DTEND;TZID=UTC:20220624T200000
DTSTAMP:20260419T124537
CREATED:20220619T191554Z
LAST-MODIFIED:20220620T225044Z
UID:524-1656090000-1656100800@vidmarmusic.com
SUMMARY:To Be Continued Band at Shaidzon Brewery
DESCRIPTION:
URL:https://vidmarmusic.com/event/to-be-continued-band-at-shaidzon-brewery-2/
LOCATION:Shaidzon Beer Company\, 141 Fairgrounds Rd\, West Kingston\, RI\, 02892\, United States
CATEGORIES:Classical Music,Country Music,Dance Music,Fiddle Music,Live Music performance
ATTACH;FMTTYPE=image/jpeg:https://vidmarmusic.com/wp-content/uploads/2022/06/Linesider-6-11-22-better-aspect-ratio.jpg
END:VEVENT
BEGIN:VEVENT
DTSTART;TZID=UTC:20220618T100000
DTEND;TZID=UTC:20220618T130000
DTSTAMP:20260419T124537
CREATED:20220615T231212Z
LAST-MODIFIED:20220615T232932Z
UID:519-1655546400-1655557200@vidmarmusic.com
SUMMARY:To Be Continued Trio at Casey Farms Farmer's Market
DESCRIPTION:
URL:https://vidmarmusic.com/event/to-be-continued-trio-at-casey-farms-farmers-market/
LOCATION:Casey Farm\, 2325 Boston Neck Rd\, Saunderstown\, RI\, 02874
CATEGORIES:Country Music,Dance Music,Fiddle Music,Live Music performance
ATTACH;FMTTYPE=image/jpeg:https://vidmarmusic.com/wp-content/uploads/2022/06/Linesider-6-11-22-1.jpg
END:VEVENT
BEGIN:VEVENT
DTSTART;TZID=UTC:20220617T190000
DTEND;TZID=UTC:20220617T210000
DTSTAMP:20260419T124537
CREATED:20220328T231532Z
LAST-MODIFIED:20220329T003629Z
UID:112-1655492400-1655499600@vidmarmusic.com
SUMMARY:To Be Continued Band at Pump House Music Works
DESCRIPTION:
URL:https://vidmarmusic.com/event/to-be-continued-band-at-pump-house-music-works/
LOCATION:Pump House Music Works\, 1464 Kingstown Rd\, Wakefield\, RI\, 02879\, United States
CATEGORIES:Live Music performance
ATTACH;FMTTYPE=image/jpeg:https://vidmarmusic.com/wp-content/uploads/2021/06/ToBeContinuedDSC_9268-ver4-scaled.jpg
END:VEVENT
BEGIN:VEVENT
DTSTART;TZID=UTC:20220616T190000
DTEND;TZID=UTC:20220616T220000
DTSTAMP:20260419T124537
CREATED:20220523T214442Z
LAST-MODIFIED:20220523T215317Z
UID:493-1655406000-1655416800@vidmarmusic.com
SUMMARY:Country Wild Heart at Hometown Tavern
DESCRIPTION:
URL:https://vidmarmusic.com/event/country-wild-heart-plays-at-hometown-tavern/
LOCATION:Hometown Tavern\, 632 Metacom Ave\, Warren\, RI\, 02885\, United States
CATEGORIES:Country Music,Dance Music,Fiddle Music,Live Music performance
ATTACH;FMTTYPE=image/jpeg:https://vidmarmusic.com/wp-content/uploads/2022/03/275006159_117571587523475_1527644552776154080_n.jpg
END:VEVENT
BEGIN:VEVENT
DTSTART;TZID=UTC:20220611T173000
DTEND;TZID=UTC:20220611T203000
DTSTAMP:20260419T124537
CREATED:20220328T231128Z
LAST-MODIFIED:20220328T232906Z
UID:108-1654968600-1654979400@vidmarmusic.com
SUMMARY:To Be Continued Band at Linesider Brewery
DESCRIPTION:
URL:https://vidmarmusic.com/event/to-be-continued-band-at-linesider-brewery/
LOCATION:Linesider Brewery\, 1485 S County Trail\, East Greenwich\, RI\, 02818\, United States
CATEGORIES:Live Music performance
ATTACH;FMTTYPE=image/jpeg:https://vidmarmusic.com/wp-content/uploads/2021/06/ToBeContinuedDSC_9268-ver4-scaled.jpg
END:VEVENT
BEGIN:VEVENT
DTSTART;TZID=UTC:20220528T190000
DTEND;TZID=UTC:20220528T220000
DTSTAMP:20260419T124537
CREATED:20220430T170910Z
LAST-MODIFIED:20220430T170910Z
UID:475-1653764400-1653775200@vidmarmusic.com
SUMMARY:To Be Continued Trio at the Breachway Grill
DESCRIPTION:
URL:https://vidmarmusic.com/event/to-be-continued-trio-at-the-breachway-grill/
LOCATION:Breachway Grill\, 1 Charlestown Beach Rd\, Charlestown\, RI\, 02813\, United States
CATEGORIES:Fiddle Music,Live Music performance
END:VEVENT
BEGIN:VEVENT
DTSTART;TZID=UTC:20220522T120000
DTEND;TZID=UTC:20220522T140000
DTSTAMP:20260419T124537
CREATED:20220328T230711Z
LAST-MODIFIED:20220328T232922Z
UID:106-1653220800-1653228000@vidmarmusic.com
SUMMARY:To Be Continued Band at Java Madness
DESCRIPTION:
URL:https://vidmarmusic.com/event/to-be-continued-band-at-java-madness-2/
LOCATION:Java Madness\, 134 Salt Pond Road\, Wakefield\, RI\, 02879\, United States
CATEGORIES:Live Music performance
ATTACH;FMTTYPE=image/jpeg:https://vidmarmusic.com/wp-content/uploads/2021/06/ToBeContinuedDSC_9268-ver4-scaled.jpg
END:VEVENT
BEGIN:VEVENT
DTSTART;TZID=UTC:20220520T200000
DTEND;TZID=UTC:20220520T230000
DTSTAMP:20260419T124537
CREATED:20220328T224843Z
LAST-MODIFIED:20220328T224843Z
UID:94-1653076800-1653087600@vidmarmusic.com
SUMMARY:Country Wild Heart at Pub on Park
DESCRIPTION:
URL:https://vidmarmusic.com/event/country-wild-heart-at-pub-on-park/
LOCATION:Pub on Park\, 655 Park Ave\, Cranston\, 02910\, United States
CATEGORIES:Live Music performance
ATTACH;FMTTYPE=image/jpeg:https://vidmarmusic.com/wp-content/uploads/2022/03/275006159_117571587523475_1527644552776154080_n.jpg
END:VEVENT
BEGIN:VEVENT
DTSTART;TZID=UTC:20220513T200000
DTEND;TZID=UTC:20220513T230000
DTSTAMP:20260419T124537
CREATED:20220328T230528Z
LAST-MODIFIED:20220328T232952Z
UID:103-1652472000-1652482800@vidmarmusic.com
SUMMARY:To Be Continued Band at Tavern on Hill
DESCRIPTION:
URL:https://vidmarmusic.com/event/to-be-continued-band-at-tavern-on-hill/
LOCATION:Tavern on Hill\, 809 Nooseneck Hill Rd\, West Greenwich\, Rhode Island\, 02817\, United States
CATEGORIES:Live Music performance
ATTACH;FMTTYPE=image/jpeg:https://vidmarmusic.com/wp-content/uploads/2021/06/ToBeContinuedDSC_9268-ver4-scaled.jpg
END:VEVENT
BEGIN:VEVENT
DTSTART;TZID=UTC:20220507T140000
DTEND;TZID=UTC:20220507T153000
DTSTAMP:20260419T124537
CREATED:20220328T230051Z
LAST-MODIFIED:20220329T002215Z
UID:100-1651932000-1651937400@vidmarmusic.com
SUMMARY:To Be Continued Band at the Jamestown Philomenian Library
DESCRIPTION:
URL:https://vidmarmusic.com/event/to-be-continued-at-the-jamestown-philomenian-library/
LOCATION:Jamestown Philomenian Library\, 26 North Road\, Jamestown\, RI\, 02835\, United States
CATEGORIES:Live Music performance
ATTACH;FMTTYPE=image/jpeg:https://vidmarmusic.com/wp-content/uploads/2021/06/ToBeContinuedDSC_9268-ver4-scaled.jpg
END:VEVENT
BEGIN:VEVENT
DTSTART;TZID=UTC:20220428T193000
DTEND;TZID=UTC:20220428T213000
DTSTAMP:20260419T124537
CREATED:20220328T223406Z
LAST-MODIFIED:20220328T223406Z
UID:78-1651174200-1651181400@vidmarmusic.com
SUMMARY:Country Wild Heart at Hometown Tavern
DESCRIPTION:Come listen and dance to all of Country Wild Heart music!
URL:https://vidmarmusic.com/event/country-wild-heart-at-hometown-tavern/
LOCATION:Hometown Tavern\, 632 Metacom Ave\, Warren\, RI\, 02885\, United States
CATEGORIES:Live Music performance
ATTACH;FMTTYPE=image/jpeg:https://vidmarmusic.com/wp-content/uploads/2022/03/275006159_117571587523475_1527644552776154080_n.jpg
END:VEVENT
BEGIN:VEVENT
DTSTART;TZID=UTC:20220424T120000
DTEND;TZID=UTC:20220424T140000
DTSTAMP:20260419T124537
CREATED:20220328T225237Z
LAST-MODIFIED:20220405T021730Z
UID:98-1650801600-1650808800@vidmarmusic.com
SUMMARY:To Be Continued Band at Java Madness
DESCRIPTION:
URL:https://vidmarmusic.com/event/to-be-continued-band-at-java-madness/
LOCATION:Java Madness\, 134 Salt Pond Road\, Wakefield\, RI\, 02879\, United States
CATEGORIES:Live Music performance
ATTACH;FMTTYPE=image/jpeg:https://vidmarmusic.com/wp-content/uploads/2021/06/ToBeContinuedDSC_9268-ver4-scaled.jpg
END:VEVENT
BEGIN:VEVENT
DTSTART;TZID=UTC:20220420T203000
DTEND;TZID=UTC:20220420T233000
DTSTAMP:20260419T124537
CREATED:20220328T225052Z
LAST-MODIFIED:20220414T220415Z
UID:96-1650486600-1650497400@vidmarmusic.com
SUMMARY:To Be Continued Band at Nick-A-Nee's
DESCRIPTION:
URL:https://vidmarmusic.com/event/to-be-continued-band-at-nick-a-nees/
LOCATION:Nick-A-Nee’s\, 75 South Street\, Providence\, 02903\, United States
CATEGORIES:Dance Music,Fiddle Music,Live Music performance
ATTACH;FMTTYPE=image/jpeg:https://vidmarmusic.com/wp-content/uploads/2022/03/Nickanees1.jpg
END:VEVENT
END:VCALENDAR